BEGIN:VCALENDAR
VERSION:2.0
PRODID:-//eveil - ECPv6.15.20//NONSGML v1.0//EN
CALSCALE:GREGORIAN
METHOD:PUBLISH
X-WR-CALNAME:eveil
X-ORIGINAL-URL:https://asbl-eveil.be
X-WR-CALDESC:Évènements pour eveil
REFRESH-INTERVAL;VALUE=DURATION:PT1H
X-Robots-Tag:noindex
X-PUBLISHED-TTL:PT1H
BEGIN:VTIMEZONE
TZID:Europe/Paris
BEGIN:DAYLIGHT
TZOFFSETFROM:+0100
TZOFFSETTO:+0200
TZNAME:CEST
DTSTART:20210328T010000
END:DAYLIGHT
BEGIN:STANDARD
TZOFFSETFROM:+0200
TZOFFSETTO:+0100
TZNAME:CET
DTSTART:20211031T010000
END:STANDARD
BEGIN:DAYLIGHT
TZOFFSETFROM:+0100
TZOFFSETTO:+0200
TZNAME:CEST
DTSTART:20220327T010000
END:DAYLIGHT
BEGIN:STANDARD
TZOFFSETFROM:+0200
TZOFFSETTO:+0100
TZNAME:CET
DTSTART:20221030T010000
END:STANDARD
BEGIN:DAYLIGHT
TZOFFSETFROM:+0100
TZOFFSETTO:+0200
TZNAME:CEST
DTSTART:20230326T010000
END:DAYLIGHT
BEGIN:STANDARD
TZOFFSETFROM:+0200
TZOFFSETTO:+0100
TZNAME:CET
DTSTART:20231029T010000
END:STANDARD
END:VTIMEZONE
BEGIN:VEVENT
DTSTART;TZID=Europe/Paris:20220625T090000
DTEND;TZID=Europe/Paris:20220625T173000
DTSTAMP:20260425T061440
CREATED:20220321T200837Z
LAST-MODIFIED:20220330T083659Z
UID:10000025-1656147600-1656178200@asbl-eveil.be
SUMMARY:Formation Sixième Sens - Niveau PSI 1 - Ouverture de votre canal intuitif - éveil à la  voyance (1 jour)
DESCRIPTION:Trois modules d’atelier pratiques consacrés à l’éveil de vos perceptions extrasensorielles. Le sixième sens est un potentiel naturel qui sommeille en chacun. Je vais vous aider à rétablir le contact avec vos capacités psychiques. Vous serez capable\, après entraînement\, de décrire des photos contenues dans des enveloppes fermées\, de décrire un objet caché et son histoire\, de décrire un lieu à distance ! Exercices de clairvoyance\, télépathie et de visions à distance … Ces modules peuvent se faire indépendamment des stages de tarot ou en même temps. Pas de prérequis\, accessible aux débutants. Nombre de participants limité pour garantir la qualité de l’apprentissage. \n 
URL:https://asbl-eveil.be/event/formation-sixieme-sens-niveau-psi-1-ouverture-de-votre-canal-intuitif-eveil-a-la-voyance-1-jour/
LOCATION:Salle du MOC – Aywaille\, Avenue de la République Française 6\, Aywaille\, 4920\, Belgique
CATEGORIES:PSI1,Sixième sens
ATTACH;FMTTYPE=image/jpeg:https://asbl-eveil.be/wp-content/uploads/2022/03/mind.jpg
ORGANIZER;CN="Esm%C3%A9ralda Bernard":MAILTO:info@asbl-eveil.be
END:VEVENT
END:VCALENDAR