BEGIN:VCALENDAR
VERSION:2.0
PRODID:-//eveil - ECPv6.15.20//NONSGML v1.0//EN
CALSCALE:GREGORIAN
METHOD:PUBLISH
X-WR-CALNAME:eveil
X-ORIGINAL-URL:https://asbl-eveil.be
X-WR-CALDESC:Évènements pour eveil
REFRESH-INTERVAL;VALUE=DURATION:PT1H
X-Robots-Tag:noindex
X-PUBLISHED-TTL:PT1H
BEGIN:VTIMEZONE
TZID:Europe/Paris
BEGIN:DAYLIGHT
TZOFFSETFROM:+0100
TZOFFSETTO:+0200
TZNAME:CEST
DTSTART:20230326T010000
END:DAYLIGHT
BEGIN:STANDARD
TZOFFSETFROM:+0200
TZOFFSETTO:+0100
TZNAME:CET
DTSTART:20231029T010000
END:STANDARD
BEGIN:DAYLIGHT
TZOFFSETFROM:+0100
TZOFFSETTO:+0200
TZNAME:CEST
DTSTART:20240331T010000
END:DAYLIGHT
BEGIN:STANDARD
TZOFFSETFROM:+0200
TZOFFSETTO:+0100
TZNAME:CET
DTSTART:20241027T010000
END:STANDARD
BEGIN:DAYLIGHT
TZOFFSETFROM:+0100
TZOFFSETTO:+0200
TZNAME:CEST
DTSTART:20250330T010000
END:DAYLIGHT
BEGIN:STANDARD
TZOFFSETFROM:+0200
TZOFFSETTO:+0100
TZNAME:CET
DTSTART:20251026T010000
END:STANDARD
END:VTIMEZONE
BEGIN:VEVENT
DTSTART;TZID=Europe/Paris:20240316T090000
DTEND;TZID=Europe/Paris:20240317T173000
DTSTAMP:20260423T160523
CREATED:20231115T112035Z
LAST-MODIFIED:20241101T135631Z
UID:10000045-1710579600-1710696600@asbl-eveil.be
SUMMARY:Le jeu de votre Destin - Niveau 1 - Initiation (2 jours)
DESCRIPTION:6 modules en 3 week-end ou 4-5 jours selon votre disponibilité et votre motivation. Véritable alphabet symbolique et divinatoire\, le tarot vous répond\, vous guide\, vous éclaire… sur le présent et l’avenir. C’est aussi une formidable rampe de lancement pour développer votre intuition. Il suffit d’apprendre à interpréter les cartes et écouter sa « petite voix ». Une approche souple\, claire et pratique\, ouverte à tous. Convivialité et partage d’un groupe. Nombre de participants limité pour garantir la qualité de l’apprentissage. \n 
URL:https://asbl-eveil.be/event/le-jeu-de-votre-destin-niveau-1-initiation-2-jours-3/
CATEGORIES:Formations,Niveau 1
ATTACH;FMTTYPE=image/jpeg:https://asbl-eveil.be/wp-content/uploads/2022/02/initiation-novembre-15-009.jpg
ORGANIZER;CN="Esm%C3%A9ralda Bernard":MAILTO:info@asbl-eveil.be
END:VEVENT
BEGIN:VEVENT
DTSTART;TZID=Europe/Paris:20240317T090000
DTEND;TZID=Europe/Paris:20240317T173000
DTSTAMP:20260423T160523
CREATED:20231126T110128Z
LAST-MODIFIED:20231126T110417Z
UID:10000060-1710666000-1710696600@asbl-eveil.be
SUMMARY:EXCLUSIVITE pour débutants : journée de formation au Jeu de votre Destin - Format de poche (1 jour)
DESCRIPTION:EXCLUSIVITE pour débutants\nUne journée de formation pour débutants qui ont la nouvelle version du Jeu de votre Destin – Format Poche (en vente aussi sur place) \nLe Dim 17 mars 2024 de 09 h à 17h30 : Apprentissage accessible à tous avec de nombreux exercices pratiques de tirages à 3 et 5 cartes. Tirage oui/ non. Et surtout apprendre à formuler correctement vos questions\, c’est la base essentielle pour obtenir des réponses claires et précises. Nombre de participants limité.
URL:https://asbl-eveil.be/event/exclusivite-pour-debutants-journee-de-formation-au-jeu-de-votre-destin-format-de-poche-1-jour/
CATEGORIES:Format Poche,Formations
ATTACH;FMTTYPE=image/jpeg:https://asbl-eveil.be/wp-content/uploads/2023/11/minijeu3.jpg
ORGANIZER;CN="Esm%C3%A9ralda Bernard":MAILTO:info@asbl-eveil.be
END:VEVENT
END:VCALENDAR