BEGIN:VCALENDAR
VERSION:2.0
PRODID:-//eveil - ECPv6.15.20//NONSGML v1.0//EN
CALSCALE:GREGORIAN
METHOD:PUBLISH
X-WR-CALNAME:eveil
X-ORIGINAL-URL:https://asbl-eveil.be
X-WR-CALDESC:Évènements pour eveil
REFRESH-INTERVAL;VALUE=DURATION:PT1H
X-Robots-Tag:noindex
X-PUBLISHED-TTL:PT1H
BEGIN:VTIMEZONE
TZID:Europe/Paris
BEGIN:DAYLIGHT
TZOFFSETFROM:+0100
TZOFFSETTO:+0200
TZNAME:CEST
DTSTART:20230326T010000
END:DAYLIGHT
BEGIN:STANDARD
TZOFFSETFROM:+0200
TZOFFSETTO:+0100
TZNAME:CET
DTSTART:20231029T010000
END:STANDARD
BEGIN:DAYLIGHT
TZOFFSETFROM:+0100
TZOFFSETTO:+0200
TZNAME:CEST
DTSTART:20240331T010000
END:DAYLIGHT
BEGIN:STANDARD
TZOFFSETFROM:+0200
TZOFFSETTO:+0100
TZNAME:CET
DTSTART:20241027T010000
END:STANDARD
BEGIN:DAYLIGHT
TZOFFSETFROM:+0100
TZOFFSETTO:+0200
TZNAME:CEST
DTSTART:20250330T010000
END:DAYLIGHT
BEGIN:STANDARD
TZOFFSETFROM:+0200
TZOFFSETTO:+0100
TZNAME:CET
DTSTART:20251026T010000
END:STANDARD
END:VTIMEZONE
BEGIN:VEVENT
DTSTART;TZID=Europe/Paris:20241026T090000
DTEND;TZID=Europe/Paris:20241026T173000
DTSTAMP:20260423T022843
CREATED:20231115T120336Z
LAST-MODIFIED:20231115T120644Z
UID:10000048-1729933200-1729963800@asbl-eveil.be
SUMMARY:Le Jeu de votre Destin – Niveau 2 – Exercices de supervision (1 jour)
DESCRIPTION:6 modules en 3 week-end ou 4-5 jours selon votre disponibilité et votre motivation. Véritable alphabet symbolique et divinatoire\, le tarot vous répond\, vous guide\, vous éclaire… sur le présent et l’avenir. C’est aussi une formidable rampe de lancement pour développer votre intuition. Il suffit d’apprendre à interpréter les cartes et écouter sa « petite voix ». Une approche souple\, claire et pratique\, ouverte à tous. Convivialité et partage d’un groupe. Nombre de participants limité pour garantir la qualité de l’apprentissage. \n 
URL:https://asbl-eveil.be/event/le-jeu-de-votre-destin-niveau-2-exercices-de-supervision-1-jour-4/
CATEGORIES:Formations,Niveau 2
ATTACH;FMTTYPE=image/jpeg:https://asbl-eveil.be/wp-content/uploads/2022/02/initiation-juillet-15-014.jpg
ORGANIZER;CN="Esm%C3%A9ralda Bernard":MAILTO:info@asbl-eveil.be
END:VEVENT
END:VCALENDAR