BEGIN:VCALENDAR
VERSION:2.0
PRODID:-//eveil - ECPv6.15.20//NONSGML v1.0//EN
CALSCALE:GREGORIAN
METHOD:PUBLISH
X-WR-CALNAME:eveil
X-ORIGINAL-URL:https://asbl-eveil.be
X-WR-CALDESC:Évènements pour eveil
REFRESH-INTERVAL;VALUE=DURATION:PT1H
X-Robots-Tag:noindex
X-PUBLISHED-TTL:PT1H
BEGIN:VTIMEZONE
TZID:Europe/Brussels
BEGIN:DAYLIGHT
TZOFFSETFROM:+0100
TZOFFSETTO:+0200
TZNAME:CEST
DTSTART:20240331T010000
END:DAYLIGHT
BEGIN:STANDARD
TZOFFSETFROM:+0200
TZOFFSETTO:+0100
TZNAME:CET
DTSTART:20241027T010000
END:STANDARD
BEGIN:DAYLIGHT
TZOFFSETFROM:+0100
TZOFFSETTO:+0200
TZNAME:CEST
DTSTART:20250330T010000
END:DAYLIGHT
BEGIN:STANDARD
TZOFFSETFROM:+0200
TZOFFSETTO:+0100
TZNAME:CET
DTSTART:20251026T010000
END:STANDARD
BEGIN:DAYLIGHT
TZOFFSETFROM:+0100
TZOFFSETTO:+0200
TZNAME:CEST
DTSTART:20260329T010000
END:DAYLIGHT
BEGIN:STANDARD
TZOFFSETFROM:+0200
TZOFFSETTO:+0100
TZNAME:CET
DTSTART:20261025T010000
END:STANDARD
END:VTIMEZONE
BEGIN:VTIMEZONE
TZID:Europe/Paris
BEGIN:DAYLIGHT
TZOFFSETFROM:+0100
TZOFFSETTO:+0200
TZNAME:CEST
DTSTART:20240331T010000
END:DAYLIGHT
BEGIN:STANDARD
TZOFFSETFROM:+0200
TZOFFSETTO:+0100
TZNAME:CET
DTSTART:20241027T010000
END:STANDARD
BEGIN:DAYLIGHT
TZOFFSETFROM:+0100
TZOFFSETTO:+0200
TZNAME:CEST
DTSTART:20250330T010000
END:DAYLIGHT
BEGIN:STANDARD
TZOFFSETFROM:+0200
TZOFFSETTO:+0100
TZNAME:CET
DTSTART:20251026T010000
END:STANDARD
BEGIN:DAYLIGHT
TZOFFSETFROM:+0100
TZOFFSETTO:+0200
TZNAME:CEST
DTSTART:20260329T010000
END:DAYLIGHT
BEGIN:STANDARD
TZOFFSETFROM:+0200
TZOFFSETTO:+0100
TZNAME:CET
DTSTART:20261025T010000
END:STANDARD
END:VTIMEZONE
BEGIN:VEVENT
DTSTART;TZID=Europe/Brussels:20250315T090000
DTEND;TZID=Europe/Brussels:20250316T173000
DTSTAMP:20260423T003923
CREATED:20241101T134421Z
LAST-MODIFIED:20241101T134753Z
UID:10000061-1742029200-1742146200@asbl-eveil.be
SUMMARY:Initiation au Jeu de votre Destin - Niveau 1 (2 jours)
DESCRIPTION:6 modules en 3 week-end ou 4-5 jours selon votre disponibilité et votre motivation. Véritable alphabet symbolique et divinatoire\, le tarot vous répond\, vous guide\, vous éclaire… sur le présent et l’avenir. C’est aussi une formidable rampe de lancement pour développer votre intuition. Il suffit d’apprendre à interpréter les cartes et écouter sa « petite voix ». Une approche souple\, claire et pratique\, ouverte à tous. Convivialité et partage d’un groupe. Nombre de participants limité pour garantir la qualité de l’apprentissage. \n 
URL:https://asbl-eveil.be/event/initiation-au-jeu-de-votre-destin-niveau-1-2-jours/
CATEGORIES:Formations,Niveau 1
ATTACH;FMTTYPE=image/jpeg:https://asbl-eveil.be/wp-content/uploads/2022/02/initiation-novembre-15-009.jpg
ORGANIZER;CN="Esm%C3%A9ralda Bernard":MAILTO:info@asbl-eveil.be
END:VEVENT
BEGIN:VEVENT
DTSTART;TZID=Europe/Paris:20250323T090000
DTEND;TZID=Europe/Paris:20250323T173000
DTSTAMP:20260423T003923
CREATED:20241111T095230Z
LAST-MODIFIED:20241111T095334Z
UID:10000074-1742720400-1742751000@asbl-eveil.be
SUMMARY:Méthode de développement personnel avec les 22 cartes astro (1 jour)
DESCRIPTION:Nouvelle méthode de développement personnel avec les 22 cartes astro\nexclusivement réservée aux stagiaires de niveau de fin de formation\n6 modules en 3 week-end ou 4-5 jours selon votre disponibilité et votre motivation. Véritable alphabet symbolique et divinatoire\, le tarot vous répond\, vous guide\, vous éclaire… sur le présent et l’avenir. C’est aussi une formidable rampe de lancement pour développer votre intuition. Il suffit d’apprendre à interpréter les cartes et écouter sa « petite voix ». Une approche souple\, claire et pratique\, ouverte à tous. Convivialité et partage d’un groupe. Nombre de participants limité pour garantir la qualité de l’apprentissage. \n 
URL:https://asbl-eveil.be/event/methode-de-developpement-personnel-avec-les-22-cartes-astro-1-jour-2/
LOCATION:Salle du MOC – Aywaille\, Avenue de la République Française 6\, Aywaille\, 4920\, Belgique
CATEGORIES:Formations,Perfectionnement
ATTACH;FMTTYPE=image/jpeg:https://asbl-eveil.be/wp-content/uploads/2022/03/jeu1.jpg
ORGANIZER;CN="Esm%C3%A9ralda Bernard":MAILTO:info@asbl-eveil.be
END:VEVENT
END:VCALENDAR