BEGIN:VCALENDAR
VERSION:2.0
PRODID:-//eveil - ECPv6.15.20//NONSGML v1.0//EN
CALSCALE:GREGORIAN
METHOD:PUBLISH
X-WR-CALNAME:eveil
X-ORIGINAL-URL:https://asbl-eveil.be
X-WR-CALDESC:Évènements pour eveil
REFRESH-INTERVAL;VALUE=DURATION:PT1H
X-Robots-Tag:noindex
X-PUBLISHED-TTL:PT1H
BEGIN:VTIMEZONE
TZID:Europe/Brussels
BEGIN:DAYLIGHT
TZOFFSETFROM:+0100
TZOFFSETTO:+0200
TZNAME:CEST
DTSTART:20250330T010000
END:DAYLIGHT
BEGIN:STANDARD
TZOFFSETFROM:+0200
TZOFFSETTO:+0100
TZNAME:CET
DTSTART:20251026T010000
END:STANDARD
BEGIN:DAYLIGHT
TZOFFSETFROM:+0100
TZOFFSETTO:+0200
TZNAME:CEST
DTSTART:20260329T010000
END:DAYLIGHT
BEGIN:STANDARD
TZOFFSETFROM:+0200
TZOFFSETTO:+0100
TZNAME:CET
DTSTART:20261025T010000
END:STANDARD
BEGIN:DAYLIGHT
TZOFFSETFROM:+0100
TZOFFSETTO:+0200
TZNAME:CEST
DTSTART:20270328T010000
END:DAYLIGHT
BEGIN:STANDARD
TZOFFSETFROM:+0200
TZOFFSETTO:+0100
TZNAME:CET
DTSTART:20271031T010000
END:STANDARD
END:VTIMEZONE
BEGIN:VEVENT
DTSTART;TZID=Europe/Brussels:20260613T090000
DTEND;TZID=Europe/Brussels:20260613T173000
DTSTAMP:20260420T064620
CREATED:20241101T142722Z
LAST-MODIFIED:20260418T120607Z
UID:10000070-1781341200-1781371800@asbl-eveil.be
SUMMARY:Réveillez votre sixième sens - Niveau PSI.1 (1 jour)
DESCRIPTION:Trois modules d’atelier pratiques consacrés à l’éveil de vos perceptions extrasensorielles. Le sixième sens est un potentiel naturel qui sommeille en chacun. Je vais vous aider à rétablir le contact avec vos capacités psychiques. Vous serez capable\, après entraînement\, de décrire des photos contenues dans des enveloppes fermées\, de décrire un objet caché et son histoire\, de décrire un lieu à distance ! Exercices de clairvoyance\, télépathie et de visions à distance … Ces modules peuvent se faire indépendamment des stages de tarot ou en même temps. Pas de prérequis\, accessible aux débutants. Nombre de participants limité pour garantir la qualité de l’apprentissage. \n 
URL:https://asbl-eveil.be/event/reveillez-votre-sixieme-sens-niveau-psi-1-1-jour-3/
LOCATION:Salle du MOC – Aywaille\, Avenue de la République Française 6\, Aywaille\, 4920\, Belgique
CATEGORIES:PSI1,Sixième sens
ATTACH;FMTTYPE=image/jpeg:https://asbl-eveil.be/wp-content/uploads/2022/04/meditation-1384758_1280.jpg
ORGANIZER;CN="Esm%C3%A9ralda Bernard":MAILTO:info@asbl-eveil.be
END:VEVENT
BEGIN:VEVENT
DTSTART;TZID=Europe/Brussels:20260614T093000
DTEND;TZID=Europe/Brussels:20260614T173000
DTSTAMP:20260420T064620
CREATED:20241101T142939Z
LAST-MODIFIED:20260418T120837Z
UID:10000071-1781429400-1781458200@asbl-eveil.be
SUMMARY:Atelier pratique de vos capacités extrasensorielles - Niveau PSI.2 (1 jour)
DESCRIPTION:Trois modules d’atelier pratiques consacrés à l’éveil de vos perceptions extrasensorielles. Le sixième sens est un potentiel naturel qui sommeille en chacun. Je vais vous aider à rétablir le contact avec vos capacités psychiques. Vous serez capable\, après entraînement\, de décrire des photos contenues dans des enveloppes fermées\, de décrire un objet caché et son histoire\, de décrire un lieu à distance ! Exercices de clairvoyance\, télépathie et de visions à distance … Ces modules peuvent se faire indépendamment des stages de tarot ou en même temps. Pas de prérequis\, accessible aux débutants. Nombre de participants limité pour garantir la qualité de l’apprentissage. \n 
URL:https://asbl-eveil.be/event/atelier-pratique-de-vos-capacites-extrasensorielles-niveau-psi-2-1-jour-3/
LOCATION:Salle du MOC – Aywaille\, Avenue de la République Française 6\, Aywaille\, 4920\, Belgique
CATEGORIES:PSI2,Sixième sens
ATTACH;FMTTYPE=image/jpeg:https://asbl-eveil.be/wp-content/uploads/2022/04/meditation-1384758_1280.jpg
ORGANIZER;CN="Esm%C3%A9ralda Bernard":MAILTO:info@asbl-eveil.be
END:VEVENT
BEGIN:VEVENT
DTSTART;TZID=Europe/Brussels:20260920T090000
DTEND;TZID=Europe/Brussels:20260920T173000
DTSTAMP:20260420T064620
CREATED:20241101T143257Z
LAST-MODIFIED:20260418T121103Z
UID:10000072-1789894800-1789925400@asbl-eveil.be
SUMMARY:Approfondissement pratique de vos capacités psi - Niveau PSI.3 (1 jour)
DESCRIPTION:Trois modules d’atelier pratiques consacrés à l’éveil de vos perceptions extrasensorielles. Le sixième sens est un potentiel naturel qui sommeille en chacun. Je vais vous aider à rétablir le contact avec vos capacités psychiques. Vous serez capable\, après entraînement\, de décrire des photos contenues dans des enveloppes fermées\, de décrire un objet caché et son histoire\, de décrire un lieu à distance ! Exercices de clairvoyance\, télépathie et de visions à distance … Ces modules peuvent se faire indépendamment des stages de tarot ou en même temps. Pas de prérequis\, accessible aux débutants. Nombre de participants limité pour garantir la qualité de l’apprentissage. \n 
URL:https://asbl-eveil.be/event/approfondissement-pratique-de-vos-capacites-psi-niveau-psi-3-1-jour-3/
LOCATION:Salle du MOC – Aywaille\, Avenue de la République Française 6\, Aywaille\, 4920\, Belgique
CATEGORIES:PSI3,Sixième sens
ATTACH;FMTTYPE=image/jpeg:https://asbl-eveil.be/wp-content/uploads/2022/04/meditation-1384758_1280.jpg
ORGANIZER;CN="Esm%C3%A9ralda Bernard":MAILTO:info@asbl-eveil.be
END:VEVENT
END:VCALENDAR