BEGIN:VCALENDAR
VERSION:2.0
PRODID:-//eveil - ECPv6.15.20//NONSGML v1.0//EN
CALSCALE:GREGORIAN
METHOD:PUBLISH
X-WR-CALNAME:eveil
X-ORIGINAL-URL:https://asbl-eveil.be
X-WR-CALDESC:Évènements pour eveil
REFRESH-INTERVAL;VALUE=DURATION:PT1H
X-Robots-Tag:noindex
X-PUBLISHED-TTL:PT1H
BEGIN:VTIMEZONE
TZID:Europe/Paris
BEGIN:DAYLIGHT
TZOFFSETFROM:+0100
TZOFFSETTO:+0200
TZNAME:CEST
DTSTART:20220327T010000
END:DAYLIGHT
BEGIN:STANDARD
TZOFFSETFROM:+0200
TZOFFSETTO:+0100
TZNAME:CET
DTSTART:20221030T010000
END:STANDARD
BEGIN:DAYLIGHT
TZOFFSETFROM:+0100
TZOFFSETTO:+0200
TZNAME:CEST
DTSTART:20230326T010000
END:DAYLIGHT
BEGIN:STANDARD
TZOFFSETFROM:+0200
TZOFFSETTO:+0100
TZNAME:CET
DTSTART:20231029T010000
END:STANDARD
BEGIN:DAYLIGHT
TZOFFSETFROM:+0100
TZOFFSETTO:+0200
TZNAME:CEST
DTSTART:20240331T010000
END:DAYLIGHT
BEGIN:STANDARD
TZOFFSETFROM:+0200
TZOFFSETTO:+0100
TZNAME:CET
DTSTART:20241027T010000
END:STANDARD
END:VTIMEZONE
BEGIN:VEVENT
DTSTART;TZID=Europe/Paris:20231001T090000
DTEND;TZID=Europe/Paris:20231001T173000
DTSTAMP:20260424T012316
CREATED:20221124T095521Z
LAST-MODIFIED:20221124T095619Z
UID:10000044-1696150800-1696181400@asbl-eveil.be
SUMMARY:Approfondissement pratique de vos capacités psi - Niveau PSI.3 (1 jour)
DESCRIPTION:Trois modules d’atelier pratiques consacrés à l’éveil de vos perceptions extrasensorielles. Le sixième sens est un potentiel naturel qui sommeille en chacun. Je vais vous aider à rétablir le contact avec vos capacités psychiques. Vous serez capable\, après entraînement\, de décrire des photos contenues dans des enveloppes fermées\, de décrire un objet caché et son histoire\, de décrire un lieu à distance ! Exercices de clairvoyance\, télépathie et de visions à distance … Ces modules peuvent se faire indépendamment des stages de tarot ou en même temps. Pas de prérequis\, accessible aux débutants. Nombre de participants limité pour garantir la qualité de l’apprentissage. \n 
URL:https://asbl-eveil.be/event/approfondissement-pratique-de-vos-capacites-psi-niveau-psi-3-1-jour/
LOCATION:Salle du MOC – Aywaille\, Avenue de la République Française 6\, Aywaille\, 4920\, Belgique
CATEGORIES:PSI3,Sixième sens
ATTACH;FMTTYPE=image/jpeg:https://asbl-eveil.be/wp-content/uploads/2022/04/meditation-1384758_1280.jpg
ORGANIZER;CN="Esm%C3%A9ralda Bernard":MAILTO:info@asbl-eveil.be
END:VEVENT
BEGIN:VEVENT
DTSTART;TZID=Europe/Paris:20231028T090000
DTEND;TZID=Europe/Paris:20231028T173000
DTSTAMP:20260424T012316
CREATED:20221027T201710Z
LAST-MODIFIED:20221108T185213Z
UID:10000033-1698483600-1698514200@asbl-eveil.be
SUMMARY:Le Jeu de votre Destin - Niveau 2 - Exercices de supervision (1 jour)
DESCRIPTION:6 modules en 3 week-end ou 4-5 jours selon votre disponibilité et votre motivation. Véritable alphabet symbolique et divinatoire\, le tarot vous répond\, vous guide\, vous éclaire… sur le présent et l’avenir. C’est aussi une formidable rampe de lancement pour développer votre intuition. Il suffit d’apprendre à interpréter les cartes et écouter sa « petite voix ». Une approche souple\, claire et pratique\, ouverte à tous. Convivialité et partage d’un groupe. Nombre de participants limité pour garantir la qualité de l’apprentissage. \n  \n\n\n\n\n\n\n\n\n\n 
URL:https://asbl-eveil.be/event/le-jeu-de-votre-destin-niveau-2-exercices-de-supervision-1-jour-2/
LOCATION:Salle du MOC – Aywaille\, Avenue de la République Française 6\, Aywaille\, 4920\, Belgique
CATEGORIES:Formations,Niveau 2
ATTACH;FMTTYPE=image/jpeg:https://asbl-eveil.be/wp-content/uploads/2022/02/initiation-juillet-15-014.jpg
ORGANIZER;CN="Esm%C3%A9ralda Bernard":MAILTO:info@asbl-eveil.be
END:VEVENT
BEGIN:VEVENT
DTSTART;TZID=Europe/Paris:20231029T090000
DTEND;TZID=Europe/Paris:20231029T170000
DTSTAMP:20260424T012316
CREATED:20221108T191744Z
LAST-MODIFIED:20221124T093953Z
UID:10000038-1698570000-1698598800@asbl-eveil.be
SUMMARY:Le Jeu de votre Destin – Niveau 3 – Journée de pratique – niveau FORT (1 jour)
DESCRIPTION:6 modules en 3 week-end ou 4-5 jours selon votre disponibilité et votre motivation. Véritable alphabet symbolique et divinatoire\, le tarot vous répond\, vous guide\, vous éclaire… sur le présent et l’avenir. C’est aussi une formidable rampe de lancement pour développer votre intuition. Il suffit d’apprendre à interpréter les cartes et écouter sa « petite voix ». Une approche souple\, claire et pratique\, ouverte à tous. Convivialité et partage d’un groupe. Nombre de participants limité pour garantir la qualité de l’apprentissage. \n 
URL:https://asbl-eveil.be/event/le-jeu-de-votre-destin-niveau-3-journee-de-pratique-niveau-fort-1-jour-2/
LOCATION:Salle du MOC – Aywaille\, Avenue de la République Française 6\, Aywaille\, 4920\, Belgique
CATEGORIES:Formations,Niveau 3
ATTACH;FMTTYPE=image/jpeg:https://asbl-eveil.be/wp-content/uploads/2022/02/initiation-sept-014-013.jpg
ORGANIZER;CN="Esm%C3%A9ralda Bernard":MAILTO:info@asbl-eveil.be
END:VEVENT
END:VCALENDAR